BEGIN:VCALENDAR
VERSION:2.0
PRODID:-//wp-events-plugin.com//7.2.3.1//EN
TZID:America/New_York
X-WR-TIMEZONE:America/New_York
BEGIN:VEVENT
UID:3341@tbegreatneck.org
DTSTART;TZID=America/New_York:20240808T183000
DTEND;TZID=America/New_York:20240808T223000
DTSTAMP:20240717T160209Z
URL:https://www.tbegreatneck.org/events/rooftop-karaoke/
SUMMARY:Rooftop Karaoke
DESCRIPTION:Come join us for a fun time on the rooftop as we sing karaoke!\
 n\nEnjoy a few hits by our cantorial soloist\, Stephanie Horowitz-Mulry. T
 here will be great food (pizza\, pasta &amp\; salad\; BYOB)\, friends\, an
 d a photo booth!\n\nFor more information contact Joy Allen at 516-487-0900
  or by email at jallen@tbegreatneck.org.\n\nClick here to register.
ATTACH;FMTTYPE=image/jpeg:https://www.tbegreatneck.org/wp-content/uploads/
 2024/07/web-rooftop-karaoke-july-2024-.png
CATEGORIES:Homepage,Social/Recreational,Special Events
END:VEVENT
BEGIN:VTIMEZONE
TZID:America/New_York
X-LIC-LOCATION:America/New_York
BEGIN:DAYLIGHT
DTSTART:20240310T030000
TZOFFSETFROM:-0500
TZOFFSETTO:-0400
TZNAME:EDT
END:DAYLIGHT
END:VTIMEZONE
END:VCALENDAR