BEGIN:VCALENDAR
VERSION:2.0
PRODID:-//wp-events-plugin.com//7.2.3.1//EN
TZID:America/New_York
X-WR-TIMEZONE:America/New_York
BEGIN:VEVENT
UID:3084@tbegreatneck.org
DTSTART;TZID=America/New_York:20240318T123000
DTEND;TZID=America/New_York:20240318T133000
DTSTAMP:20240307T203503Z
URL:https://www.tbegreatneck.org/events/mishloach-manot-pack-deliver-hamen
 stashen/
SUMMARY:Mishloach Manot-pack & deliver hamenstashen
DESCRIPTION:According to the Book of Esther\, we are instructed to send gif
 ts (mishloach manot) to one another on Purim\, so send gifts we shall!\n\n
 Sign up to volunteer help package and deliver&nbsp\;mishloach manot&nbsp\;
 to our congregants ages 70+ and in return you will be entered into a raffl
 e to receive two tickets to TBE’s next Rooftop Concert or a Friday night
  dinner.\n\nFor every house you deliver to\, you will receive a raffle tic
 ket.\n\nBut that’s not all…\n\nFor congregants under the age of 70\, w
 e invite you to come pick up your own&nbsp\;mishloach manot&nbsp\;from the
  temple and upon pickup\, you too will be entered in the raffle to receive
  two tickets for the next Rooftop Concert or a Friday night dinner.\n\nPac
 king will take place on Monday\, March 18 from 12:30-1:30 p.m.\nPickups fo
 r delivery will be on Tuesday\, March 19 from 11 a.m.-1 p.m.\nPick up your
  own Mishloach Manot on Tuesday March 19 through Thursday\, March 21 from 
 10 a.m.-1 p.m.\n\nClick here to register.\n\nQuestions? Need more info? Co
 ntact Joy Allen at jallen@tbegreatneck.org.
ATTACH;FMTTYPE=image/jpeg:https://www.tbegreatneck.org/wp-content/uploads/
 2024/03/Mishloach-manot-web.jpg
CATEGORIES:Homepage,Special Events
END:VEVENT
BEGIN:VTIMEZONE
TZID:America/New_York
X-LIC-LOCATION:America/New_York
BEGIN:DAYLIGHT
DTSTART:20240310T030000
TZOFFSETFROM:-0500
TZOFFSETTO:-0400
TZNAME:EDT
END:DAYLIGHT
END:VTIMEZONE
END:VCALENDAR