BEGIN:VCALENDAR
VERSION:2.0
PRODID:-//wp-events-plugin.com//7.2.3.1//EN
TZID:America/New_York
X-WR-TIMEZONE:America/New_York
BEGIN:VEVENT
UID:8052@tbegreatneck.org
DTSTART;TZID=America/New_York:20270507T190000
DTEND;TZID=America/New_York:20270507T210000
DTSTAMP:20260421T151621Z
URL:https://www.tbegreatneck.org/events/erev-shabbat-summer-service-2026-0
 9-11-2026-09-18-2026-09-25-2026-10-02-2026-10-09-2026-10-16-2026-10-23-202
 6-10-30-2026-11-06-2026-11-13-2026-11-20-2026-11-27-2026-12-04-2026-12-11-
 2026-30-2027-05-07/
SUMMARY:Erev Shabbat Service
DESCRIPTION:Facebook Live at&nbsp\;https://www.facebook.com/TBEGreatNeck/\n
 \nLivestream on YouTube at&nbsp\;https://tinyurl.com/TBELivestream.
CATEGORIES:Services,Shabbat &amp; Holidays,Worship &amp; Spirituality
END:VEVENT
BEGIN:VTIMEZONE
TZID:America/New_York
X-LIC-LOCATION:America/New_York
BEGIN:DAYLIGHT
DTSTART:20270314T030000
TZOFFSETFROM:-0500
TZOFFSETTO:-0400
TZNAME:EDT
END:DAYLIGHT
END:VTIMEZONE
END:VCALENDAR