BEGIN:VCALENDAR
VERSION:2.0
PRODID:-//wp-events-plugin.com//7.2.3.1//EN
TZID:America/New_York
X-WR-TIMEZONE:America/New_York
BEGIN:VEVENT
UID:3669@tbegreatneck.org
DTSTART;TZID=America/New_York:20241021T094500
DTEND;TZID=America/New_York:20241021T123000
DTSTAMP:20240930T204229Z
URL:https://www.tbegreatneck.org/events/early-childhood-education-center-c
 onsecration-in-the-sukkah/
SUMMARY:Early Childhood Education Center: Consecration in the Sukkah
DESCRIPTION:Parents are welcome in our beautiful sukkah\, located on the ro
 oftop in the Rudin Garden\, as our clergy offer special blessings upon our
  Early Childhood students—and their families— as they formally begin t
 heir Jewish education in our community.
ATTACH;FMTTYPE=image/jpeg:https://www.tbegreatneck.org/wp-content/uploads/
 2024/09/web-consecration-sukkah.png
CATEGORIES:Homepage,Lifelong Learning,Special Events,Young Families
END:VEVENT
BEGIN:VTIMEZONE
TZID:America/New_York
X-LIC-LOCATION:America/New_York
BEGIN:DAYLIGHT
DTSTART:20240310T030000
TZOFFSETFROM:-0500
TZOFFSETTO:-0400
TZNAME:EDT
END:DAYLIGHT
END:VTIMEZONE
END:VCALENDAR